BEGIN:VCALENDAR
VERSION:2.0
PRODID:-//506 Elite Allstars - ECPv6.15.20//NONSGML v1.0//EN
CALSCALE:GREGORIAN
METHOD:PUBLISH
X-WR-CALNAME:506 Elite Allstars
X-ORIGINAL-URL:https://506eliteallstars.com
X-WR-CALDESC:Events for 506 Elite Allstars
REFRESH-INTERVAL;VALUE=DURATION:PT1H
X-Robots-Tag:noindex
X-PUBLISHED-TTL:PT1H
BEGIN:VTIMEZONE
TZID:UTC
BEGIN:STANDARD
TZOFFSETFROM:+0000
TZOFFSETTO:+0000
TZNAME:UTC
DTSTART:20250101T000000
END:STANDARD
END:VTIMEZONE
BEGIN:VEVENT
DTSTART;TZID=UTC:20260622T083000
DTEND;TZID=UTC:20260626T163000
DTSTAMP:20260422T015359
CREATED:20260212T183455Z
LAST-MODIFIED:20260216T180956Z
UID:10000037-1782117000-1782491400@506eliteallstars.com
SUMMARY:Blast Off to Summer
DESCRIPTION:Our fully bilingual Blast Off to Summer Camp is the perfect way to kick off summer! Campers will enjoy a fun\, safe\, and active environment while building friendships through themed crafts and games\, tumbling\, and more.\nWe offer full-week camps and daily drop-ins. Camp runs from 8:30 AM–4:30 PM\, with early drop-off (8:00–8:30 AM) and late pick-up (4:30–5:00 PM) available.\nOpen to everyone ages 5+. Please pack a lunch\, water\, comfortable clothing\, and a great attitude as we blast off into summer fun!
URL:https://506eliteallstars.com/event/blast-off-to-summer/
CATEGORIES:Summer Camps
ATTACH;FMTTYPE=image/png:https://506eliteallstars.com/wp-content/uploads/2026/02/506-Elite-Allstars-8.png
END:VEVENT
END:VCALENDAR